BEGIN:VCALENDAR
VERSION:2.0
PRODID:-//Mocka Lounge - ECPv6.15.20//NONSGML v1.0//EN
CALSCALE:GREGORIAN
METHOD:PUBLISH
X-WR-CALNAME:Mocka Lounge
X-ORIGINAL-URL:https://mockalounge.com
X-WR-CALDESC:Events for Mocka Lounge
REFRESH-INTERVAL;VALUE=DURATION:PT1H
X-Robots-Tag:noindex
X-PUBLISHED-TTL:PT1H
BEGIN:VTIMEZONE
TZID:UTC
BEGIN:STANDARD
TZOFFSETFROM:+0000
TZOFFSETTO:+0000
TZNAME:UTC
DTSTART:20250101T000000
END:STANDARD
END:VTIMEZONE
BEGIN:VEVENT
DTSTART;TZID=UTC:20260224T080000
DTEND;TZID=UTC:20260224T170000
DTSTAMP:20260419T170444
CREATED:20260224T221757Z
LAST-MODIFIED:20260224T221757Z
UID:93210-1771920000-1771952400@mockalounge.com
SUMMARY:MockaTown at Mocka Lounge
DESCRIPTION:Mockatown at Mocka Lounge – Cardiff’s Ultimate Late-Night Club\nWhen the sun sets\, Mocka Lounge transforms. \nBy day\, we’re your stylish lounge in the heart of Cardiff. By night\, the lights dim\, the neon glows\, and Mockatown takes over. \nEvery Friday and Saturday from 11PM – 4AM\, the venue becomes a high-energy nightclub experience. Immersive lighting\, powerful sound\, and a dancefloor that never stops set the stage for an unforgettable night. \nExpect an eclectic mix of Pop\, House\, R&B\, Dance\, Disco\, Afrobeats\, Deep & Soulful tracks\, curated by DJs who know how to command the room. The atmosphere? Electric. The crowd? Ready. The vibe? Pure late-night energy. \nThis isn’t just a party — it’s Cardiff’s premier late-night club experience. \nVIP Tables & Bottle Service: Secure your spot on the dancefloor with our exclusive tables. Enjoy private seating\, premium drinks\, and the ultimate night out. \n📍 1 Mill Lane\, Cardiff CF10 1FL🗓 Every Friday & Saturday⏰ 11PM – 4AM \nBook your VIP table now and experience Mockatown like never before. Glow up\, show up\, and dance the night away.
URL:https://mockalounge.com/event/mockatown-at-mocka-lounge/
CATEGORIES:Weekly Events
ATTACH;FMTTYPE=image/png:https://mockalounge.com/wp-content/uploads/2026/02/MOCKATOWN-1.png
END:VEVENT
END:VCALENDAR